BEGIN:VCALENDAR
VERSION:2.0
PRODID:-//Fritz Reuter Schule - ECPv6.15.18//NONSGML v1.0//EN
CALSCALE:GREGORIAN
METHOD:PUBLISH
X-WR-CALNAME:Fritz Reuter Schule
X-ORIGINAL-URL:https://fritz-reuter-schule-eckernfoerde.de
X-WR-CALDESC:Veranstaltungen für Fritz Reuter Schule
REFRESH-INTERVAL;VALUE=DURATION:PT1H
X-Robots-Tag:noindex
X-PUBLISHED-TTL:PT1H
BEGIN:VTIMEZONE
TZID:Europe/Berlin
BEGIN:DAYLIGHT
TZOFFSETFROM:+0100
TZOFFSETTO:+0200
TZNAME:CEST
DTSTART:20240331T010000
END:DAYLIGHT
BEGIN:STANDARD
TZOFFSETFROM:+0200
TZOFFSETTO:+0100
TZNAME:CET
DTSTART:20241027T010000
END:STANDARD
BEGIN:DAYLIGHT
TZOFFSETFROM:+0100
TZOFFSETTO:+0200
TZNAME:CEST
DTSTART:20250330T010000
END:DAYLIGHT
BEGIN:STANDARD
TZOFFSETFROM:+0200
TZOFFSETTO:+0100
TZNAME:CET
DTSTART:20251026T010000
END:STANDARD
BEGIN:DAYLIGHT
TZOFFSETFROM:+0100
TZOFFSETTO:+0200
TZNAME:CEST
DTSTART:20260329T010000
END:DAYLIGHT
BEGIN:STANDARD
TZOFFSETFROM:+0200
TZOFFSETTO:+0100
TZNAME:CET
DTSTART:20261025T010000
END:STANDARD
BEGIN:DAYLIGHT
TZOFFSETFROM:+0100
TZOFFSETTO:+0200
TZNAME:CEST
DTSTART:20270328T010000
END:DAYLIGHT
BEGIN:STANDARD
TZOFFSETFROM:+0200
TZOFFSETTO:+0100
TZNAME:CET
DTSTART:20271031T010000
END:STANDARD
END:VTIMEZONE
BEGIN:VEVENT
DTSTART;VALUE=DATE:20260202
DTEND;VALUE=DATE:20260203
DTSTAMP:20260421T120032
CREATED:20251110T140957Z
LAST-MODIFIED:20251110T140957Z
UID:5275-1769990400-1770076799@fritz-reuter-schule-eckernfoerde.de
SUMMARY:SE-Tag (schulfrei)
DESCRIPTION:
URL:https://fritz-reuter-schule-eckernfoerde.de/event/se-tag-schulfrei/
END:VEVENT
BEGIN:VEVENT
DTSTART;VALUE=DATE:20260130
DTEND;VALUE=DATE:20260131
DTSTAMP:20260421T120032
CREATED:20251110T140923Z
LAST-MODIFIED:20251110T140923Z
UID:5273-1769731200-1769817599@fritz-reuter-schule-eckernfoerde.de
SUMMARY:Zeugnisausgabe
DESCRIPTION:
URL:https://fritz-reuter-schule-eckernfoerde.de/event/zeugnisausgabe/
END:VEVENT
BEGIN:VEVENT
DTSTART;VALUE=DATE:20260119
DTEND;VALUE=DATE:20260120
DTSTAMP:20260421T120032
CREATED:20251110T140757Z
LAST-MODIFIED:20251110T140757Z
UID:5271-1768780800-1768867199@fritz-reuter-schule-eckernfoerde.de
SUMMARY:Zeugniskonferenzen
DESCRIPTION:
URL:https://fritz-reuter-schule-eckernfoerde.de/event/zeugniskonferenzen/
END:VEVENT
BEGIN:VEVENT
DTSTART;VALUE=DATE:20260113
DTEND;VALUE=DATE:20260114
DTSTAMP:20260421T120032
CREATED:20251110T140542Z
LAST-MODIFIED:20251110T140542Z
UID:5269-1768262400-1768348799@fritz-reuter-schule-eckernfoerde.de
SUMMARY:SV-Sitzung
DESCRIPTION:
URL:https://fritz-reuter-schule-eckernfoerde.de/event/sv-sitzung-3/
END:VEVENT
BEGIN:VEVENT
DTSTART;VALUE=DATE:20260113
DTEND;VALUE=DATE:20260114
DTSTAMP:20260421T120032
CREATED:20251110T140508Z
LAST-MODIFIED:20251110T140508Z
UID:5267-1768262400-1768348799@fritz-reuter-schule-eckernfoerde.de
SUMMARY:Sozialtraining Igel
DESCRIPTION:
URL:https://fritz-reuter-schule-eckernfoerde.de/event/sozialtraining-igel/
END:VEVENT
BEGIN:VEVENT
DTSTART;VALUE=DATE:20260112
DTEND;VALUE=DATE:20260113
DTSTAMP:20260421T120032
CREATED:20251110T140431Z
LAST-MODIFIED:20251110T140431Z
UID:5265-1768176000-1768262399@fritz-reuter-schule-eckernfoerde.de
SUMMARY:Sozialtraining Otter
DESCRIPTION:
URL:https://fritz-reuter-schule-eckernfoerde.de/event/sozialtraining-otter-2/
END:VEVENT
BEGIN:VEVENT
DTSTART;VALUE=DATE:20251219
DTEND;VALUE=DATE:20260107
DTSTAMP:20260421T120032
CREATED:20251110T140109Z
LAST-MODIFIED:20251110T140109Z
UID:5263-1766102400-1767743999@fritz-reuter-schule-eckernfoerde.de
SUMMARY:Weihnachtsferien
DESCRIPTION:
URL:https://fritz-reuter-schule-eckernfoerde.de/event/weihnachtsferien/
END:VEVENT
BEGIN:VEVENT
DTSTART;VALUE=DATE:20251218
DTEND;VALUE=DATE:20251219
DTSTAMP:20260421T120032
CREATED:20251110T140049Z
LAST-MODIFIED:20251110T140049Z
UID:5261-1766016000-1766102399@fritz-reuter-schule-eckernfoerde.de
SUMMARY:Weihnachtsgottesdienst
DESCRIPTION:
URL:https://fritz-reuter-schule-eckernfoerde.de/event/weihnachtsgottesdienst/
END:VEVENT
BEGIN:VEVENT
DTSTART;VALUE=DATE:20251217
DTEND;VALUE=DATE:20251218
DTSTAMP:20260421T120032
CREATED:20251110T135956Z
LAST-MODIFIED:20251110T135956Z
UID:5259-1765929600-1766015999@fritz-reuter-schule-eckernfoerde.de
SUMMARY:Theaterbesuch Klasse 4
DESCRIPTION:
URL:https://fritz-reuter-schule-eckernfoerde.de/event/theaterbesuch-klasse-4/
END:VEVENT
BEGIN:VEVENT
DTSTART;VALUE=DATE:20251216
DTEND;VALUE=DATE:20251217
DTSTAMP:20260421T120032
CREATED:20251110T135919Z
LAST-MODIFIED:20251110T135919Z
UID:5257-1765843200-1765929599@fritz-reuter-schule-eckernfoerde.de
SUMMARY:Sozialtraining Eichhörnchen und Eulen
DESCRIPTION:
URL:https://fritz-reuter-schule-eckernfoerde.de/event/sozialtraining-eichhoernchen-und-eulen/
END:VEVENT
BEGIN:VEVENT
DTSTART;VALUE=DATE:20251215
DTEND;VALUE=DATE:20251216
DTSTAMP:20260421T120032
CREATED:20251110T135823Z
LAST-MODIFIED:20251110T135823Z
UID:5255-1765756800-1765843199@fritz-reuter-schule-eckernfoerde.de
SUMMARY:Sozialtraining Füchse
DESCRIPTION:
URL:https://fritz-reuter-schule-eckernfoerde.de/event/sozialtraining-fuechse-2/
END:VEVENT
BEGIN:VEVENT
DTSTART;VALUE=DATE:20251212
DTEND;VALUE=DATE:20251213
DTSTAMP:20260421T120032
CREATED:20251110T135656Z
LAST-MODIFIED:20251110T135656Z
UID:5253-1765497600-1765583999@fritz-reuter-schule-eckernfoerde.de
SUMMARY:Sozialtraining Bären
DESCRIPTION:
URL:https://fritz-reuter-schule-eckernfoerde.de/event/sozialtraining-baeren-2/
END:VEVENT
BEGIN:VEVENT
DTSTART;VALUE=DATE:20251209
DTEND;VALUE=DATE:20251210
DTSTAMP:20260421T120032
CREATED:20251110T135601Z
LAST-MODIFIED:20251110T135601Z
UID:5251-1765238400-1765324799@fritz-reuter-schule-eckernfoerde.de
SUMMARY:SV-Sitzung
DESCRIPTION:
URL:https://fritz-reuter-schule-eckernfoerde.de/event/sv-sitzung-2/
END:VEVENT
BEGIN:VEVENT
DTSTART;VALUE=DATE:20251209
DTEND;VALUE=DATE:20251210
DTSTAMP:20260421T120032
CREATED:20251110T135531Z
LAST-MODIFIED:20251110T135531Z
UID:5249-1765238400-1765324799@fritz-reuter-schule-eckernfoerde.de
SUMMARY:Geschichtenerfinder Enno Kalisch
DESCRIPTION:
URL:https://fritz-reuter-schule-eckernfoerde.de/event/geschichtenerfinder-enno-kalisch/
END:VEVENT
BEGIN:VEVENT
DTSTART;VALUE=DATE:20251205
DTEND;VALUE=DATE:20251206
DTSTAMP:20260421T120032
CREATED:20251110T135407Z
LAST-MODIFIED:20251110T135407Z
UID:5247-1764892800-1764979199@fritz-reuter-schule-eckernfoerde.de
SUMMARY:Sozialtraining Waschbären
DESCRIPTION:
URL:https://fritz-reuter-schule-eckernfoerde.de/event/sozialtraining-waschbaeren/
END:VEVENT
BEGIN:VEVENT
DTSTART;VALUE=DATE:20251203
DTEND;VALUE=DATE:20251204
DTSTAMP:20260421T120032
CREATED:20251110T135306Z
LAST-MODIFIED:20251110T135306Z
UID:5245-1764720000-1764806399@fritz-reuter-schule-eckernfoerde.de
SUMMARY:Weihnachtsstück Gammelbyer Bühne
DESCRIPTION:
URL:https://fritz-reuter-schule-eckernfoerde.de/event/weihnachtsstueck-gammelbyer-buehne/
END:VEVENT
BEGIN:VEVENT
DTSTART;VALUE=DATE:20251202
DTEND;VALUE=DATE:20251203
DTSTAMP:20260421T120032
CREATED:20251110T135223Z
LAST-MODIFIED:20251110T135223Z
UID:5243-1764633600-1764719999@fritz-reuter-schule-eckernfoerde.de
SUMMARY:Sozialtraining Eichhörnchen
DESCRIPTION:
URL:https://fritz-reuter-schule-eckernfoerde.de/event/sozialtraining-eichhoernchen/
END:VEVENT
BEGIN:VEVENT
DTSTART;VALUE=DATE:20251201
DTEND;VALUE=DATE:20251202
DTSTAMP:20260421T120032
CREATED:20251110T135143Z
LAST-MODIFIED:20251110T135143Z
UID:5241-1764547200-1764633599@fritz-reuter-schule-eckernfoerde.de
SUMMARY:Fachkonferenzen II
DESCRIPTION:
URL:https://fritz-reuter-schule-eckernfoerde.de/event/fachkonferenzen-ii/
END:VEVENT
BEGIN:VEVENT
DTSTART;VALUE=DATE:20251128
DTEND;VALUE=DATE:20251129
DTSTAMP:20260421T120032
CREATED:20251110T135010Z
LAST-MODIFIED:20251110T135010Z
UID:5237-1764288000-1764374399@fritz-reuter-schule-eckernfoerde.de
SUMMARY:Adventsbasteln
DESCRIPTION:
URL:https://fritz-reuter-schule-eckernfoerde.de/event/adventsbasteln/
END:VEVENT
BEGIN:VEVENT
DTSTART;VALUE=DATE:20251127
DTEND;VALUE=DATE:20251128
DTSTAMP:20260421T120032
CREATED:20251110T134857Z
LAST-MODIFIED:20251110T134857Z
UID:5235-1764201600-1764287999@fritz-reuter-schule-eckernfoerde.de
SUMMARY:Beetpflege
DESCRIPTION:
URL:https://fritz-reuter-schule-eckernfoerde.de/event/beetpflege/
END:VEVENT
BEGIN:VEVENT
DTSTART;VALUE=DATE:20251124
DTEND;VALUE=DATE:20251125
DTSTAMP:20260421T120032
CREATED:20251110T135110Z
LAST-MODIFIED:20251110T135110Z
UID:5239-1763942400-1764028799@fritz-reuter-schule-eckernfoerde.de
SUMMARY:Fachkonferenzen I
DESCRIPTION:
URL:https://fritz-reuter-schule-eckernfoerde.de/event/fachkonferenzen-i/
END:VEVENT
BEGIN:VEVENT
DTSTART;VALUE=DATE:20251124
DTEND;VALUE=DATE:20251125
DTSTAMP:20260421T120032
CREATED:20251110T134807Z
LAST-MODIFIED:20251110T134807Z
UID:5232-1763942400-1764028799@fritz-reuter-schule-eckernfoerde.de
SUMMARY:Sozialtraining Otter
DESCRIPTION:
URL:https://fritz-reuter-schule-eckernfoerde.de/event/sozialtraining-otter/
END:VEVENT
BEGIN:VEVENT
DTSTART;VALUE=DATE:20251121
DTEND;VALUE=DATE:20251122
DTSTAMP:20260421T120032
CREATED:20251110T134743Z
LAST-MODIFIED:20251110T134743Z
UID:5230-1763683200-1763769599@fritz-reuter-schule-eckernfoerde.de
SUMMARY:Sozialtraining Eulen
DESCRIPTION:
URL:https://fritz-reuter-schule-eckernfoerde.de/event/sozialtraining-eulen/
END:VEVENT
BEGIN:VEVENT
DTSTART;VALUE=DATE:20251118
DTEND;VALUE=DATE:20251119
DTSTAMP:20260421T120032
CREATED:20251110T134706Z
LAST-MODIFIED:20251110T134706Z
UID:5228-1763424000-1763510399@fritz-reuter-schule-eckernfoerde.de
SUMMARY:Sozialtraining Bären
DESCRIPTION:
URL:https://fritz-reuter-schule-eckernfoerde.de/event/sozialtraining-baeren/
END:VEVENT
BEGIN:VEVENT
DTSTART;TZID=Europe/Berlin:20251117T183000
DTEND;TZID=Europe/Berlin:20251117T203000
DTSTAMP:20260421T120032
CREATED:20251110T134624Z
LAST-MODIFIED:20251110T134624Z
UID:5226-1763404200-1763411400@fritz-reuter-schule-eckernfoerde.de
SUMMARY:Schulkonferenz
DESCRIPTION:
URL:https://fritz-reuter-schule-eckernfoerde.de/event/schulkonferenz/
END:VEVENT
BEGIN:VEVENT
DTSTART;VALUE=DATE:20251117
DTEND;VALUE=DATE:20251118
DTSTAMP:20260421T120032
CREATED:20251110T134550Z
LAST-MODIFIED:20251110T134550Z
UID:5224-1763337600-1763423999@fritz-reuter-schule-eckernfoerde.de
SUMMARY:Sozialtraining Füchse
DESCRIPTION:
URL:https://fritz-reuter-schule-eckernfoerde.de/event/sozialtraining-fuechse/
END:VEVENT
BEGIN:VEVENT
DTSTART;VALUE=DATE:20251113
DTEND;VALUE=DATE:20251114
DTSTAMP:20260421T120032
CREATED:20251110T134356Z
LAST-MODIFIED:20251110T134356Z
UID:5220-1762992000-1763078399@fritz-reuter-schule-eckernfoerde.de
SUMMARY:Schlaue Pause (Ot)
DESCRIPTION:
URL:https://fritz-reuter-schule-eckernfoerde.de/event/schlaue-pause-ot/
END:VEVENT
BEGIN:VEVENT
DTSTART;VALUE=DATE:20251112
DTEND;VALUE=DATE:20251113
DTSTAMP:20260421T120032
CREATED:20251110T134308Z
LAST-MODIFIED:20251110T134308Z
UID:5218-1762905600-1762991999@fritz-reuter-schule-eckernfoerde.de
SUMMARY:Schlaue Pause (Ig+Bä)
DESCRIPTION:
URL:https://fritz-reuter-schule-eckernfoerde.de/event/schlaue-pause-igbae/
END:VEVENT
BEGIN:VEVENT
DTSTART;VALUE=DATE:20251111
DTEND;VALUE=DATE:20251112
DTSTAMP:20260421T120032
CREATED:20251110T134446Z
LAST-MODIFIED:20251110T134446Z
UID:5222-1762819200-1762905599@fritz-reuter-schule-eckernfoerde.de
SUMMARY:SV-Sitzung
DESCRIPTION:
URL:https://fritz-reuter-schule-eckernfoerde.de/event/sv-sitzung/
END:VEVENT
BEGIN:VEVENT
DTSTART;VALUE=DATE:20251111
DTEND;VALUE=DATE:20251112
DTSTAMP:20260421T120032
CREATED:20251110T134237Z
LAST-MODIFIED:20251110T134323Z
UID:5216-1762819200-1762905599@fritz-reuter-schule-eckernfoerde.de
SUMMARY:Schlaue Pause (Fü+Eu)
DESCRIPTION:
URL:https://fritz-reuter-schule-eckernfoerde.de/event/schlaue-pause-fueeu/
END:VEVENT
END:VCALENDAR